BEGIN:VCALENDAR
VERSION:2.0
PRODID:-//Library Market//iCal Export//EN
BEGIN:VEVENT
SUMMARY:Empathic listening training
UID:57007
DTSTAMP:20260424T004700Z
DTSTART:20260613T150000Z
DTEND:20260613T170000Z
LOCATION:East Greenbush Community Library, 10 Community Way, East Greenbus
 h, NY 12061, United States
ROOM: Meeting Room A
DESCRIPTION:Training in empathic listening
URL:https://eastgreenbushlibrary.librarymarket.com/empathic-listening-trai
 ning-3
END:VEVENT
END:VCALENDAR
