BEGIN:VCALENDAR
VERSION:2.0
PRODID:-//Library Market//iCal Export//EN
BEGIN:VEVENT
SUMMARY:Tech-Talk Webinar: Power of BI Demystified
UID:56987
DTSTAMP:20260421T213200Z
DTSTART:20260610T190000Z
DTEND:20260610T200000Z
LOCATION:
DESCRIPTION:Everyone is talking about Power BI… but would learning this 
 tool be advantageous? This practical session explains what Power B-I is, w
 hen it’s worth using, and when Excel is enough. Learn how dashboards wor
 k, what trips people up, and how to start simply… so you can make smarte
 r, more confident decisions about your data.  Register through Tech-Talk.
  When prompted, enter the user name eglibrary and password eglibrary.
URL:https://eastgreenbushlibrary.librarymarket.com/tech-talk-webinar-power
 -bi-demystified
END:VEVENT
END:VCALENDAR
