BEGIN:VCALENDAR
VERSION:2.0
PRODID:-//Library Market//iCal Export//EN
BEGIN:VEVENT
SUMMARY:Tech-Talk Webinar: Discovering AI
UID:56986
DTSTAMP:20260422T080500Z
DTSTART:20260520T190000Z
DTEND:20260520T200000Z
LOCATION:
DESCRIPTION:Artificial intelligence is transforming everyday work… but n
 ot every use is wise. In this practical session, learn the different types
  of AI, the best tools for  professionals, and the risks to avoid. Discov
 er how to protect privacy, reduce bias, verify accuracy, and use AI respon
 sibly while improving productivity and decision-making.Register through Te
 ch-Talk. When prompted, enter the user name eglibrary and password eglibra
 ry.
URL:https://eastgreenbushlibrary.librarymarket.com/tech-talk-webinar-disco
 vering-ai
END:VEVENT
END:VCALENDAR
