BEGIN:VCALENDAR
VERSION:2.0
PRODID:-//Library Market//iCal Export//EN
BEGIN:VEVENT
SUMMARY:Tech-Talk Webinar: Scrub Your Name from the Web
UID:56985
DTSTAMP:20260422T080500Z
DTSTART:20260506T190000Z
DTEND:20260506T200000Z
LOCATION:
DESCRIPTION:Your name, email, and even old passwords may still be circulat
 ing online.In this practical, calm workshop, learn:how data broker sites c
 ollect your informationhow to remove yourself manually when to consider s
 ervices like Incognihow to strengthen passwords and monitoring to reduce r
 isk and regain digital confidence.Register through Tech-Talk. When prompte
 d, enter the user name eglibrary and password eglibrary.
URL:https://eastgreenbushlibrary.librarymarket.com/tech-talk-webinar-scrub
 -your-name-web
END:VEVENT
END:VCALENDAR
