BEGIN:VCALENDAR
VERSION:2.0
PRODID:-//Library Market//iCal Export//EN
BEGIN:VEVENT
SUMMARY:Same Day Reservation
UID:56953
DTSTAMP:20260425T145300Z
DTSTART:20260418T143000Z
DTEND:20260418T163000Z
LOCATION:East Greenbush Community Library, 10 Community Way, East Greenbus
 h, NY 12061, United States
ROOM: Hurr Education Center
DESCRIPTION:Same Day Reservation
URL:https://eastgreenbushlibrary.librarymarket.com/same-day-reservation-83
 3
END:VEVENT
END:VCALENDAR
