BEGIN:VCALENDAR
VERSION:2.0
PRODID:-//Library Market//iCal Export//EN
BEGIN:VEVENT
SUMMARY:Empathic listening training
UID:56937
DTSTAMP:20260421T192400Z
DTSTART:20260530T150000Z
DTEND:20260530T170000Z
LOCATION:East Greenbush Community Library, 10 Community Way, East Greenbus
 h, NY 12061, United States
ROOM: Meeting Room AB
DESCRIPTION:We are training our members to be active listeners when they t
 alk to voters.
URL:https://eastgreenbushlibrary.librarymarket.com/empathic-listening-trai
 ning-1
END:VEVENT
END:VCALENDAR
