BEGIN:VCALENDAR
VERSION:2.0
PRODID:-//Library Market//iCal Export//EN
BEGIN:VEVENT
SUMMARY:Exploring Printmaking on a Gel Plate
UID:56837
DTSTAMP:20260423T032600Z
DTSTART:20260529T150000Z
DTEND:20260529T170000Z
LOCATION:East Greenbush Community Library, 10 Community Way, East Greenbus
 h, NY 12061, United States
ROOM: Meeting Room AB
DESCRIPTION:Exploring Printmaking on a Gel PlateJoin local artist,Â TracyÂ
  Loring, for this brand new (to us) workshop. Youâ€™ll learn the basics of
  printmaking including layering and creating unique textures with texture 
 plates, stencils, masks, and more.Tracy has been teaching art workshops fo
 r over 30 years. Helping others tap into their own inner artist is one of 
 her favorite things to do!Please register.Â Â This program is made possibl
 e by the generous support of the Friends of the East Greenbush Community L
 ibrary, a patron-supported non-profit organization. Â Become a Friend toda
 y!
URL:https://eastgreenbushlibrary.librarymarket.com/exploring-printmaking-f
 riday
END:VEVENT
END:VCALENDAR
