BEGIN:VCALENDAR
VERSION:2.0
PRODID:-//Library Market//iCal Export//EN
BEGIN:VEVENT
SUMMARY:English as a New Language
UID:56256
DTSTAMP:20260425T120200Z
DTSTART:20260423T203000Z
DTEND:20260423T233000Z
LOCATION:East Greenbush Community Library, 10 Community Way, East Greenbus
 h, NY 12061, United States
ROOM: Hurr Education Center
DESCRIPTION:This program teaches speaking, listening, reading and writing 
 and is intended for new English language learners age 21 or older. America
 n Citizenship not required, but must have green card. To learn more and to
  register contact Questar III at 518-477-8771.
URL:https://eastgreenbushlibrary.librarymarket.com/english-new-language-65
END:VEVENT
END:VCALENDAR
