BEGIN:VCALENDAR
VERSION:2.0
PRODID:-//Library Market//iCal Export//EN
BEGIN:VEVENT
SUMMARY:Carpet Renovation: Lmtd. seating, collections, no access to Hurr R
 oom
UID:56138
DTSTAMP:20260425T135300Z
DTSTART:20260427T040000Z
DTEND:20260503T040000Z
LOCATION:East Greenbush Community Library, 10 Community Way, East Greenbus
 h, NY 12061, United States
ROOM: Carpet Renovation: Lmtd. seating, collections, no access to Hurr Roo
 m
DESCRIPTION:Carpet renovation project continues with limited access to sea
 ting, collections and services. The library is open and drive-thru holds p
 ickup service is available. Get updates at https://eglibrary.org/library-n
 ewsWhat to expect week of 4/27: Very limited seatingNo access to fiction,
  mystery, paperbacks, adult graphic novels, large print, manga, library of
  things, biography, local authorsLimited access to DVDs, books on CD, nonf
 iction  Need help finding items? Contact us at 518-477-7476. 
URL:https://eastgreenbushlibrary.librarymarket.com/library-construction-lt
 d-services-seating-access-collections-more
END:VEVENT
END:VCALENDAR
