BEGIN:VCALENDAR
VERSION:2.0
PRODID:-//Library Market//iCal Export//EN
BEGIN:VEVENT
SUMMARY:Summer VolunTeen Training
UID:55565
DTSTAMP:20260422T013600Z
DTSTART:20260606T150000Z
DTEND:20260606T154500Z
LOCATION:10 Community Way, East Greenbush, NY 12061, United States
ROOM: Multi-Purpose Room
DESCRIPTION:Are you interested in volunteering at the library this summer?
  Join us for a Summer VolunTeen training session!Summer VolunTeens will ha
 ve the opportunity to help with fun library events, assist with our summer
  reading challenges, shelve library materials, and more! VolunTeens typica
 lly work 2-6 hours per week during the summer and schedule their own shift
 s.VolunTeens must be entering grades 8+ in September 2026.VolunTeens are
  required to attend a Summer VolunTeen training. Please register for ONE 
 of the following sessions:Saturday, June 6th @ 11amWednesday, June 10th @ 
 6:30pmThursday, June 11th @ 3:15pmMonday, June 15th @ 3:15pm VolunTeens a
 re expected to complete a 2026 Summer VolunTeen Application (available sta
 rting 5/1).Please contact the Children’s Room at (518) 477-7476 (option 
 3) or email youthstaff@eglibrary.org with any questions.Note: When registe
 ring for a training, please choose the grade you will be in when you start
  school in September 2026!
URL:https://eastgreenbushlibrary.librarymarket.com/svt-060626
END:VEVENT
END:VCALENDAR
