BEGIN:VCALENDAR
VERSION:2.0
PRODID:-//Library Market//iCal Export//EN
BEGIN:VEVENT
SUMMARY:Making Dandelion Wine &amp; Other Country Wines
UID:55557
DTSTAMP:20260422T202700Z
DTSTART:20260518T220000Z
DTEND:20260518T233000Z
LOCATION:10 Community Way, East Greenbush, NY 12061, United States
ROOM: Multi-Purpose Room
DESCRIPTION:Learn what equipment you need to make delicious dandelion and 
 other country wines. There are many recipes for dandelion wine. We’ll su
 pply one and show you how to make your own version.  Plus use that equipm
 ent to make country wine out of other flowers, fruits, vegetables and herb
 s. It’s really very easy. Roger Savoy, owner of Homebrew Emporium, will
  take you through all the steps necessary to make your own version of Coun
 try wines. Enjoy an hour or so learning how to pack all the joys of summer
  into a single bottle.Please register.  This program is made possible by
  the generous support of the Friends of the East Greenbush Community Libra
 ry, a patron-supported non-profit organization.  Become a Friend today!
URL:https://eastgreenbushlibrary.librarymarket.com/making-dandelion-wine
END:VEVENT
END:VCALENDAR
