BEGIN:VCALENDAR
VERSION:2.0
PRODID:-//Library Market//iCal Export//EN
BEGIN:VEVENT
SUMMARY:I am ALS
UID:55556
DTSTAMP:20260425T145300Z
DTSTART:20260527T220000Z
DTEND:20260527T233000Z
LOCATION:East Greenbush Community Library, 10 Community Way, East Greenbus
 h, NY 12061, United States
ROOM: Meeting Room AB
DESCRIPTION:Founder Brian Wallach created “I AM ALS” with the intent t
 o invite everyone into the fight and make it personal. ALS is 100% fatal, 
 but the determination to end it isn’t, and I AM ALS is fully committed t
 o working—together—until ALS is defeated. Living with ALS, whether as 
 a patient, caregiver, or loved one, can feel overwhelming and isolating. Y
 ou are not alone. Wherever you are, you can find the support and resources
  you need through I AM ALS. Join us for this panel discussion featuring in
 dividuals whose lives have been forever changed because of ALS, whether as
  a loved one, a healthcare provider, or as a patient.
URL:https://eastgreenbushlibrary.librarymarket.com/i-am-als
END:VEVENT
END:VCALENDAR
