BEGIN:VCALENDAR
VERSION:2.0
PRODID:-//Library Market//iCal Export//EN
BEGIN:VEVENT
SUMMARY:Schodack Democratic Committee
UID:56991
DTSTAMP:20260424T060400Z
DTSTART:20260617T213000Z
DTEND:20260617T233000Z
LOCATION:East Greenbush Community Library, 10 Community Way, East Greenbus
 h, NY 12061, United States
ROOM: Meeting Room A
DESCRIPTION:Schodack Democratic Committee Meeting
URL:https://eastgreenbushlibrary.librarymarket.com/index.php/schodack-demo
 cratic-committee-19
END:VEVENT
END:VCALENDAR
