BEGIN:VCALENDAR
VERSION:2.0
PRODID:-//Library Market//iCal Export//EN
BEGIN:VEVENT
SUMMARY:Tech-Talk Webinar: Add Audio/Video to Presentations Like a Pro
UID:56988
DTSTAMP:20260421T161800Z
DTSTART:20260624T190000Z
DTEND:20260624T200000Z
LOCATION:
DESCRIPTION:Learn how to enhance presentations with audio and video using 
 Canva, PowerPoint, and Google Slides. Discover how to sync music to slide 
 timing, avoid overlapping, automate playback, and create a seamless viewer
  experience. Walk away with practical techniques to elevate engagement and
  deliver polished, professional presentations every time. Register throug
 h Tech-Talk. When prompted, enter the user name eglibrary and password egl
 ibrary.
URL:https://eastgreenbushlibrary.librarymarket.com/index.php/tech-talk-web
 inar-add-audiovideo-presentations-pro
END:VEVENT
END:VCALENDAR
