BEGIN:VCALENDAR
VERSION:2.0
PRODID:-//Library Market//iCal Export//EN
BEGIN:VEVENT
SUMMARY:Renovations week of 4/20: Ltd. access to collections &amp; seating
UID:56944
DTSTAMP:20260425T135300Z
DTSTART:20260420T040000Z
DTEND:20260426T040000Z
LOCATION:East Greenbush Community Library, 10 Community Way, East Greenbus
 h, NY 12061, United States
ROOM: Renovations week of 4/20: Ltd. access to collections &amp; seating
DESCRIPTION:What to expect the week of 4/20-4/24 during continuation of ca
 rpet renovation project. The drive-thru window is available for holds pick
 up.Partial access to Library of Things collectionNo seating next to the Li
 brary of Things collection; limited throughout the buildingNo access to no
 n-fiction and reference collectionsFriends ongoing book sale temporarily c
 losedWorried that what you want won&#039;t be available? Call us at 518-5
 77-7476Follow us on social mediaCheck our website regularly for constructi
 on updatesFor more information read the Library Director&#039;s letter to 
 the community. 
URL:https://eastgreenbushlibrary.librarymarket.com/index.php/renovations-4
 20-ltd-access-services-collections-seating
END:VEVENT
END:VCALENDAR
