BEGIN:VCALENDAR
VERSION:2.0
PRODID:-//Library Market//iCal Export//EN
BEGIN:VEVENT
SUMMARY:Sour Patch Kids Taste Test (Grades 6-12)
UID:56911
DTSTAMP:20260424T042400Z
DTSTART:20260520T190000Z
DTEND:20260520T194500Z
LOCATION:10 Community Way, East Greenbush, NY 12061, United States
ROOM: Multi-Purpose Room
DESCRIPTION:Are you a Sour Patch Kids superfan? Sample a variety of flavor
 s, see if you can tell them apart, and vote for your favorites in this fun
  taste test!Registration is required and begins on Wednesday, May 6.This p
 rogram is made possible by the generous support of the Friends of the East
  Greenbush Community Library, a patron-supported non-profit organization.Â
   Become a Friend today!
URL:https://eastgreenbushlibrary.librarymarket.com/index.php/sour-patch-ki
 ds-taste-test-grades-6-12
END:VEVENT
END:VCALENDAR
