BEGIN:VCALENDAR
VERSION:2.0
PRODID:-//Library Market//iCal Export//EN
BEGIN:VEVENT
SUMMARY:Pride Crafts (Grades 6-12)
UID:56906
DTSTAMP:20260423T050900Z
DTSTART:20260604T190000Z
DTEND:20260604T203000Z
LOCATION:10 Community Way, East Greenbush, NY 12061, United States
ROOM: Multi-Purpose Room
DESCRIPTION:Celebrate Pride Month with crafts and snacks at the library! M
 ake your own pride flag buttons, bracelets, keychains, magnets, and more! 
 This is an inclusive program for LGBTQ+ teens and allies.Registration reco
 mmended. Drop-ins welcome.
URL:https://eastgreenbushlibrary.librarymarket.com/index.php/pride-crafts-
 grades-6-12
END:VEVENT
END:VCALENDAR
