BEGIN:VCALENDAR
VERSION:2.0
PRODID:-//Library Market//iCal Export//EN
BEGIN:VEVENT
SUMMARY:Wild &amp; Bright State Fair
UID:56815
DTSTAMP:20260423T172400Z
DTSTART:20260610T190000Z
DTEND:20260610T210000Z
LOCATION:10 Community Way, East Greenbush, NY 12061, United States
ROOM: Multi-Purpose Room
DESCRIPTION:Homeschool group 50 State Fair.
URL:https://eastgreenbushlibrary.librarymarket.com/index.php/wild-bright-s
 tate-fair
END:VEVENT
END:VCALENDAR
