BEGIN:VCALENDAR
VERSION:2.0
PRODID:-//Library Market//iCal Export//EN
BEGIN:VEVENT
SUMMARY:Meeting
UID:56790
DTSTAMP:20260425T135300Z
DTSTART:20260425T190000Z
DTEND:20260425T200000Z
LOCATION:East Greenbush Community Library, 10 Community Way, East Greenbus
 h, NY 12061, United States
ROOM: Meeting Room A
DESCRIPTION:Meeting one on one
URL:https://eastgreenbushlibrary.librarymarket.com/index.php/meeting-18
END:VEVENT
END:VCALENDAR
