BEGIN:VCALENDAR
VERSION:2.0
PRODID:-//Library Market//iCal Export//EN
BEGIN:VEVENT
SUMMARY:Meeting
UID:56783
DTSTAMP:20260423T032600Z
DTSTART:20260506T201500Z
DTEND:20260506T210000Z
LOCATION:East Greenbush Community Library, 10 Community Way, East Greenbus
 h, NY 12061, United States
ROOM: Meeting Room A
DESCRIPTION:Meeting one-on-one
URL:https://eastgreenbushlibrary.librarymarket.com/index.php/meeting-17
END:VEVENT
END:VCALENDAR
