BEGIN:VCALENDAR
VERSION:2.0
PRODID:-//Library Market//iCal Export//EN
BEGIN:VEVENT
SUMMARY:Garden Club: Everyone Loves Tomatoes
UID:49345
DTSTAMP:20260419T193600Z
DTSTART:20260505T220000Z
DTEND:20260505T234500Z
LOCATION:10 Community Way, East Greenbush, NY 12061, United States
ROOM: Multi-Purpose Room
DESCRIPTION:Join John Martin from Albany County CCE Master Gardener progra
 m for a presentation about the different types of tomatoes, options on pla
 nting, basic tomato plant care, and how to harvest and preserve your crop.
  This presentation also provides some insight into pest and diseases that 
 threaten your tomato crop. The Garden Club program begins at 6:00. The Cl
 ub meets following the program; all are welcome to attend.
URL:https://eastgreenbushlibrary.librarymarket.com/index.php/everyone-love
 s-tomatoes
END:VEVENT
END:VCALENDAR
